BEGIN:VCALENDAR
VERSION:2.0
PRODID:-//Squarespace Inc/Squarespace 6//v6//EN
BEGIN:VEVENT
UID:59efe2e3edaed8e2b6d82d98@squarespace.com
DTSTAMP:20171108T005409Z
DTSTART:20171112T010000Z
DTEND:20171112T043000Z
SUMMARY: Nigel Parsons LIVE MUSIC - Sunday\, 12th November
END:VEVENT
END:VCALENDAR
