BEGIN:VCALENDAR
VERSION:2.0
PRODID:-//Squarespace Inc/Squarespace 6//v6//EN
BEGIN:VEVENT
UID:59efdbdc49fc2bb5ab58c388@squarespace.com
DTSTAMP:20171025T010331Z
DTSTART:20171029T010000Z
DTEND:20171029T043000Z
SUMMARY:Luke & Ellia LIVE MUSIC - Sunday\, 29th October
END:VEVENT
END:VCALENDAR
