BEGIN:VCALENDAR
VERSION:2.0
PRODID:-//Squarespace Inc/Squarespace 6//v6//EN
BEGIN:VEVENT
UID:5c07245e575d1f3fc21cfeef@squarespace.com
DTSTAMP:20181205T011947Z
DTSTART:20181230T230000Z
DTEND:20190121T060000Z
SUMMARY:Cellar Door Closed for Maintenance
END:VEVENT
END:VCALENDAR
