BEGIN:VCALENDAR
VERSION:2.0
PRODID:-//Squarespace Inc/Squarespace 6//v6//EN
BEGIN:VEVENT
UID:581139e7b8a79b740e2ec764@squarespace.com
DTSTAMP:20181205T010534Z
DTSTART:20181224T230000Z
DTEND:20181226T060000Z
SUMMARY:Christmas &amp\; Boxing Day - Cellar Door Closed
END:VEVENT
END:VCALENDAR
