BEGIN:VCALENDAR
VERSION:2.0
PRODID:-//Squarespace Inc/Squarespace 6//v6//EN
BEGIN:VEVENT
UID:5b2a11348a922d13f8171d8e@squarespace.com
DTSTAMP:20180620T084452Z
DTSTART:20180624T023000Z
DTEND:20180624T053000Z
SUMMARY:LIVE MUSIC THIS SUNDAY 24th JUNE AT TALLIS.
END:VEVENT
END:VCALENDAR
