BEGIN:VCALENDAR
VERSION:2.0
PRODID:-//Squarespace Inc/Squarespace 6//v6//EN
BEGIN:VEVENT
UID:5ad41edd70a6ad118aa011b4@squarespace.com
DTSTAMP:20180501T094719Z
DTSTART:20180513T000000Z
DTEND:20180513T043000Z
SUMMARY:Join us for Mother's Day at Tallis
END:VEVENT
END:VCALENDAR
