BEGIN:VCALENDAR
VERSION:2.0
PRODID:-//Squarespace Inc/Squarespace 6//v6//EN
BEGIN:VEVENT
UID:58ffe2224d72ffdb10747406@squarespace.com
DTSTAMP:20180416T023704Z
DTSTART:20170507T020000Z
DTEND:20170528T070000Z
SUMMARY:Join us for Musical May
END:VEVENT
END:VCALENDAR
