BEGIN:VCALENDAR
VERSION:2.0
PRODID:-//Squarespace Inc/Squarespace 6//v6//EN
BEGIN:VEVENT
UID:59efe040e9bfdfb6e405138e@squarespace.com
DTSTAMP:20171025T005327Z
DTSTART:20171217T010000Z
DTEND:20171217T043000Z
SUMMARY:Josh Novak LIVE MUSIC - Sunday\, 17th December
END:VEVENT
END:VCALENDAR
