BEGIN:VCALENDAR
VERSION:2.0
PRODID:-//Squarespace Inc/Squarespace 6//v6//EN
BEGIN:VEVENT
UID:5ab1f64f2b6a28c01218ad56@squarespace.com
DTSTAMP:20181205T004127Z
DTSTART:20180325T013000Z
DTEND:20180325T043000Z
SUMMARY:Hugh McGinlay LIVE at Tallis
END:VEVENT
END:VCALENDAR
