BEGIN:VCALENDAR
VERSION:2.0
PRODID:-//Squarespace Inc/Squarespace 6//v6//EN
BEGIN:VEVENT
UID:58f14fa3579fb335328f56c6@squarespace.com
DTSTAMP:20170414T230553Z
DTSTART:20170423T020000Z
DTEND:20170423T050000Z
SUMMARY:Laura Byrnes & Chole Styler
END:VEVENT
END:VCALENDAR
