BEGIN:VCALENDAR
VERSION:2.0
PRODID:-//Squarespace Inc/Squarespace 6//v6//EN
BEGIN:VEVENT
UID:5a03e0e1f9619aca281555ab@squarespace.com
DTSTAMP:20171109T050947Z
DTSTART:20171119T013000Z
DTEND:20171119T043000Z
SUMMARY:LIVE MUSIC LINE UP - November / December
END:VEVENT
END:VCALENDAR
