BEGIN:VCALENDAR
VERSION:2.0
PRODID:-//Squarespace Inc/Squarespace 6//v6//EN
BEGIN:VEVENT
UID:5c071f3a6d2a7345e693e5df@squarespace.com
DTSTAMP:20181205T011904Z
DTSTART:20181216T013000Z
DTEND:20181216T050000Z
SUMMARY:Braden Pullen LIVE MUSIC 
END:VEVENT
END:VCALENDAR
