BEGIN:VCALENDAR
VERSION:2.0
PRODID:-//Squarespace Inc/Squarespace 6//v6//EN
BEGIN:VEVENT
UID:5ad419c5352f53c87a47a1b1@squarespace.com
DTSTAMP:20180416T034554Z
DTSTART:20180520T020000Z
DTEND:20180520T053000Z
SUMMARY:Angus Mackinnon LIVE MUSIC - Sunday\, 20th May
END:VEVENT
END:VCALENDAR
