BEGIN:VCALENDAR
VERSION:2.0
PRODID:-//Squarespace Inc/Squarespace 6//v6//EN
BEGIN:VEVENT
UID:5ad414aa8a922d44a4803591@squarespace.com
DTSTAMP:20180416T032538Z
DTSTART:20180506T020000Z
DTEND:20180506T053000Z
SUMMARY:Justin Boschetti LIVE MUSIC - Sunday\, 6th May
END:VEVENT
END:VCALENDAR
