BEGIN:VCALENDAR
VERSION:2.0
PRODID:-//Squarespace Inc/Squarespace 6//v6//EN
BEGIN:VEVENT
UID:5890100e414fb5e59cfc386f@squarespace.com
DTSTAMP:20171025T004243Z
DTSTART:20170304T010000Z
DTEND:20170304T040000Z
SUMMARY:Live Music Saturdays
END:VEVENT
END:VCALENDAR
