BEGIN:VCALENDAR
VERSION:2.0
PRODID:-//Squarespace Inc/Squarespace 6//v6//EN
BEGIN:VEVENT
UID:588e8e4503596e0fcbca0500@squarespace.com
DTSTAMP:20170130T012615Z
DTSTART:20170304T080000Z
DTEND:20170304T120000Z
SUMMARY:Twilight Degustation Dinner at Tallis
GEO:-36.360802;145.738571
LOCATION:Tallis Wine\, 195 Major Plains Road\, Dookie\, Australia
END:VEVENT
END:VCALENDAR
